BEGIN:VCALENDAR
VERSION:2.0
PRODID:-//ChamberMaster//Event Calendar 2.0//EN
METHOD:PUBLISH
X-PUBLISHED-TTL:P3D
REFRESH-INTERVAL:P3D
CALSCALE:GREGORIAN
BEGIN:VEVENT
DTSTART:20240712T143000Z
DTEND:20240712T150000Z
X-MICROSOFT-CDO-ALLDAYEVENT:FALSE
SUMMARY:Ribbon Cutting - The Dispensary
DESCRIPTION:Please join us on Friday\, July 12\, 2024 at 9:30 am for a Ribbon Cutting to celebrate the new business of The Dispensary\, 1826 Glenn Park Dr.\, Champaign\, IL 61821. After the ribbon cutting\, refreshments will be served. \n\n \n\nWe hope to see you there!
X-ALT-DESC;FMTTYPE=text/html:<br />\n<span style="color:#1F4E79\;"><span style="font-family:arial\,sans-serif\;">Please join us on Friday\, July 12\, 2024 at 9:30 am for a Ribbon Cutting to celebrate the new business of The Dispensary\, 1826 Glenn Park Dr.\, Champaign\, IL 61821. After the ribbon cutting\, refreshments will be served. </span></span><br />\n&nbsp\;<br />\n<span style="color:#1F4E79\;"><span style="font-family:arial\,sans-serif\;">We hope to see you there!</span></span><br />\n&nbsp\;<br />\n<br />\n&nbsp\;
LOCATION:The Dispensary 1826 Glenn Park Dr. Champaign\, IL 61821
UID:e.3371.5345
SEQUENCE:3
DTSTAMP:20260425T022109Z
URL:https://business.champaigncounty.org/events/details/ribbon-cutting-the-dispensary-5345
END:VEVENT

END:VCALENDAR
